BEGIN:VCALENDAR
VERSION:2.0
PRODID:-//La fueya cabreiresa - ECPv5.10.0//NONSGML v1.0//EN
CALSCALE:GREGORIAN
METHOD:PUBLISH
X-WR-CALNAME:La fueya cabreiresa
X-ORIGINAL-URL:https://lafueyacabreiresa.com
X-WR-CALDESC:Eventos para La fueya cabreiresa
BEGIN:VTIMEZONE
TZID:UTC
BEGIN:STANDARD
TZOFFSETFROM:+0000
TZOFFSETTO:+0000
TZNAME:UTC
DTSTART:20190101T000000
END:STANDARD
END:VTIMEZONE
BEGIN:VEVENT
DTSTART;TZID=UTC:20190808T180000
DTEND;TZID=UTC:20190808T190000
DTSTAMP:20260425T112331
CREATED:20190720T072055Z
LAST-MODIFIED:20190720T072245Z
UID:5864-1565287200-1565290800@lafueyacabreiresa.com
SUMMARY:TEATRO "EL BIBLIOBÚS". PABELLÓN DE DEPORTES DE LOMBA.
DESCRIPTION:
URL:https://lafueyacabreiresa.com/event/teatro-el-bibliobus-pabellon-de-deportes-de-lomba
LOCATION:Lomba\, Lomba
END:VEVENT
END:VCALENDAR