BEGIN:VCALENDAR
VERSION:2.0
PRODID:-//La fueya cabreiresa - ECPv5.10.0//NONSGML v1.0//EN
CALSCALE:GREGORIAN
METHOD:PUBLISH
X-WR-CALNAME:La fueya cabreiresa
X-ORIGINAL-URL:https://lafueyacabreiresa.com
X-WR-CALDESC:Eventos para La fueya cabreiresa
BEGIN:VTIMEZONE
TZID:UTC
BEGIN:STANDARD
TZOFFSETFROM:+0000
TZOFFSETTO:+0000
TZNAME:UTC
DTSTART:20180101T000000
END:STANDARD
END:VTIMEZONE
BEGIN:VEVENT
DTSTART;TZID=UTC:20180809T173000
DTEND;TZID=UTC:20180809T173000
DTSTAMP:20260422T052340
CREATED:20180806T071856Z
LAST-MODIFIED:20180806T071856Z
UID:2799-1533835800-1533835800@lafueyacabreiresa.com
SUMMARY:Teatro-cuentacuentos "Como se venga el menda" en Sigüeya
DESCRIPTION:
URL:https://lafueyacabreiresa.com/event/teatro-cuentacuentos-como-se-venga-el-menda-en-sigueya
LOCATION:Casa del pueblo de Sigüeya\, Sigüeya
CATEGORIES:Cuentacuentos
END:VEVENT
END:VCALENDAR