BEGIN:VCALENDAR
VERSION:2.0
PRODID:-//La fueya cabreiresa - ECPv5.10.0//NONSGML v1.0//EN
CALSCALE:GREGORIAN
METHOD:PUBLISH
X-WR-CALNAME:La fueya cabreiresa
X-ORIGINAL-URL:https://lafueyacabreiresa.com
X-WR-CALDESC:Eventos para La fueya cabreiresa
BEGIN:VTIMEZONE
TZID:UTC
BEGIN:STANDARD
TZOFFSETFROM:+0000
TZOFFSETTO:+0000
TZNAME:UTC
DTSTART:20180101T000000
END:STANDARD
END:VTIMEZONE
BEGIN:VEVENT
DTSTART;TZID=UTC:20180805T190000
DTEND;TZID=UTC:20180805T190000
DTSTAMP:20260421T124432
CREATED:20180731T063802Z
LAST-MODIFIED:20180731T063802Z
UID:2628-1533495600-1533495600@lafueyacabreiresa.com
SUMMARY:Teatro-cuentacuentos "Como se venga el menda" en La Cuesta
DESCRIPTION:
URL:https://lafueyacabreiresa.com/event/teatro-cuentacuentos-como-se-venga-el-menda-en-la-cuesta
LOCATION:La Cuesta\, La Cuesta\, León\, España
END:VEVENT
END:VCALENDAR