BEGIN:VCALENDAR
VERSION:2.0
PRODID:-//La fueya cabreiresa - ECPv5.10.0//NONSGML v1.0//EN
CALSCALE:GREGORIAN
METHOD:PUBLISH
X-WR-CALNAME:La fueya cabreiresa
X-ORIGINAL-URL:https://lafueyacabreiresa.com
X-WR-CALDESC:Eventos para La fueya cabreiresa
BEGIN:VTIMEZONE
TZID:UTC
BEGIN:STANDARD
TZOFFSETFROM:+0000
TZOFFSETTO:+0000
TZNAME:UTC
DTSTART:20190101T000000
END:STANDARD
END:VTIMEZONE
BEGIN:VEVENT
DTSTART;TZID=UTC:20190812T100000
DTEND;TZID=UTC:20190812T110000
DTSTAMP:20260425T113934
CREATED:20190720T075837Z
LAST-MODIFIED:20190720T075837Z
UID:5898-1565604000-1565607600@lafueyacabreiresa.com
SUMMARY:TALLER "LUCERNAS ROMANAS". ESCUELAS DE IRUELA.
DESCRIPTION:
URL:https://lafueyacabreiresa.com/event/taller-lucernas-romanas-escuelas-de-iruela
LOCATION:Iruela\, Iruela\, León\, España
END:VEVENT
END:VCALENDAR