BEGIN:VCALENDAR
VERSION:2.0
PRODID:-//La fueya cabreiresa - ECPv5.10.0//NONSGML v1.0//EN
CALSCALE:GREGORIAN
METHOD:PUBLISH
X-WR-CALNAME:La fueya cabreiresa
X-ORIGINAL-URL:https://lafueyacabreiresa.com
X-WR-CALDESC:Eventos para La fueya cabreiresa
BEGIN:VTIMEZONE
TZID:UTC
BEGIN:STANDARD
TZOFFSETFROM:+0000
TZOFFSETTO:+0000
TZNAME:UTC
DTSTART:20180101T000000
END:STANDARD
END:VTIMEZONE
BEGIN:VEVENT
DTSTART;TZID=UTC:20180808T180000
DTEND;TZID=UTC:20180808T180000
DTSTAMP:20260422T051500
CREATED:20180806T071119Z
LAST-MODIFIED:20180806T071119Z
UID:2791-1533751200-1533751200@lafueyacabreiresa.com
SUMMARY:Taller infantil "Manualidades con el brick de leche" en La Cuesta
DESCRIPTION:
URL:https://lafueyacabreiresa.com/event/taller-infantil-manualidades-con-el-brick-de-leche-en-la-cuesta
LOCATION:La Cuesta\, La Cuesta\, León\, España
CATEGORIES:Taller
END:VEVENT
END:VCALENDAR