BEGIN:VCALENDAR
VERSION:2.0
PRODID:-//La fueya cabreiresa - ECPv5.10.0//NONSGML v1.0//EN
CALSCALE:GREGORIAN
METHOD:PUBLISH
X-WR-CALNAME:La fueya cabreiresa
X-ORIGINAL-URL:https://lafueyacabreiresa.com
X-WR-CALDESC:Eventos para La fueya cabreiresa
BEGIN:VTIMEZONE
TZID:UTC
BEGIN:STANDARD
TZOFFSETFROM:+0000
TZOFFSETTO:+0000
TZNAME:UTC
DTSTART:20180101T000000
END:STANDARD
END:VTIMEZONE
BEGIN:VEVENT
DTSTART;TZID=UTC:20180808T110000
DTEND;TZID=UTC:20180808T110000
DTSTAMP:20260422T020929
CREATED:20180806T070747Z
LAST-MODIFIED:20180806T070747Z
UID:2787-1533726000-1533726000@lafueyacabreiresa.com
SUMMARY:Taller en familia "Figuras con corcho y piña" en Pozos
DESCRIPTION:
URL:https://lafueyacabreiresa.com/event/taller-en-familia-figuras-con-corcho-y-pina-en-pozos
LOCATION:Pozos\, Pozos\, León
CATEGORIES:Taller
END:VEVENT
END:VCALENDAR