BEGIN:VCALENDAR
VERSION:2.0
PRODID:-//La fueya cabreiresa - ECPv5.10.0//NONSGML v1.0//EN
CALSCALE:GREGORIAN
METHOD:PUBLISH
X-WR-CALNAME:La fueya cabreiresa
X-ORIGINAL-URL:https://lafueyacabreiresa.com
X-WR-CALDESC:Eventos para La fueya cabreiresa
BEGIN:VTIMEZONE
TZID:UTC
BEGIN:STANDARD
TZOFFSETFROM:+0000
TZOFFSETTO:+0000
TZNAME:UTC
DTSTART:20190101T000000
END:STANDARD
END:VTIMEZONE
BEGIN:VEVENT
DTSTART;TZID=UTC:20190807T180000
DTEND;TZID=UTC:20190807T190000
DTSTAMP:20260425T174907
CREATED:20190720T071115Z
LAST-MODIFIED:20190720T071115Z
UID:5855-1565200800-1565204400@lafueyacabreiresa.com
SUMMARY:TALLER "EL PROCESO DEL LINO". CASA DE CULTURA DE LA CUESTA.
DESCRIPTION:
URL:https://lafueyacabreiresa.com/event/taller-el-proceso-del-lino-casa-de-cultura-de-la-cuesta
LOCATION:La Cuesta\, Calle de Arriba S/N\, La Cuesta\, León\, 24740\, España
END:VEVENT
END:VCALENDAR