BEGIN:VCALENDAR
VERSION:2.0
PRODID:-//La fueya cabreiresa - ECPv5.10.0//NONSGML v1.0//EN
CALSCALE:GREGORIAN
METHOD:PUBLISH
X-WR-CALNAME:La fueya cabreiresa
X-ORIGINAL-URL:https://lafueyacabreiresa.com
X-WR-CALDESC:Eventos para La fueya cabreiresa
BEGIN:VTIMEZONE
TZID:UTC
BEGIN:STANDARD
TZOFFSETFROM:+0000
TZOFFSETTO:+0000
TZNAME:UTC
DTSTART:20190101T000000
END:STANDARD
END:VTIMEZONE
BEGIN:VEVENT
DTSTART;TZID=UTC:20190821T120000
DTEND;TZID=UTC:20190821T130000
DTSTAMP:20260425T163704
CREATED:20190720T092745Z
LAST-MODIFIED:20190720T092745Z
UID:5945-1566388800-1566392400@lafueyacabreiresa.com
SUMMARY:TALLER DE PINTURA Y DIBUJO. ESCUELAS DE CORPORALES.
DESCRIPTION:
URL:https://lafueyacabreiresa.com/event/taller-de-pintura-y-dibujo-escuelas-de-corporales
LOCATION:Corporales\, León
END:VEVENT
END:VCALENDAR