BEGIN:VCALENDAR
VERSION:2.0
PRODID:-//La fueya cabreiresa - ECPv5.10.0//NONSGML v1.0//EN
CALSCALE:GREGORIAN
METHOD:PUBLISH
X-WR-CALNAME:La fueya cabreiresa
X-ORIGINAL-URL:https://lafueyacabreiresa.com
X-WR-CALDESC:Eventos para La fueya cabreiresa
BEGIN:VTIMEZONE
TZID:UTC
BEGIN:STANDARD
TZOFFSETFROM:+0000
TZOFFSETTO:+0000
TZNAME:UTC
DTSTART:20190101T000000
END:STANDARD
END:VTIMEZONE
BEGIN:VEVENT
DTSTART;TZID=UTC:20190807T110000
DTEND;TZID=UTC:20190807T120000
DTSTAMP:20260425T194358
CREATED:20190720T070947Z
LAST-MODIFIED:20190720T070947Z
UID:5853-1565175600-1565179200@lafueyacabreiresa.com
SUMMARY:TALLER DE MARCAPÁGINAS BORDADO. ESCUELAS DE POZOS.
DESCRIPTION:
URL:https://lafueyacabreiresa.com/event/taller-de-marcapaginas-bordado-escuelas-de-pozos
LOCATION:Pozos\, Pozos\, León
END:VEVENT
END:VCALENDAR