BEGIN:VCALENDAR
VERSION:2.0
PRODID:-//La fueya cabreiresa - ECPv5.10.0//NONSGML v1.0//EN
CALSCALE:GREGORIAN
METHOD:PUBLISH
X-WR-CALNAME:La fueya cabreiresa
X-ORIGINAL-URL:https://lafueyacabreiresa.com
X-WR-CALDESC:Eventos para La fueya cabreiresa
BEGIN:VTIMEZONE
TZID:UTC
BEGIN:STANDARD
TZOFFSETFROM:+0000
TZOFFSETTO:+0000
TZNAME:UTC
DTSTART:20180101T000000
END:STANDARD
END:VTIMEZONE
BEGIN:VEVENT
DTSTART;TZID=UTC:20180807T173000
DTEND;TZID=UTC:20180807T173000
DTSTAMP:20260422T000746
CREATED:20180806T070246Z
LAST-MODIFIED:20180806T070246Z
UID:2780-1533663000-1533663000@lafueyacabreiresa.com
SUMMARY:Taller de juegos tradicionales en Benuza
DESCRIPTION:
URL:https://lafueyacabreiresa.com/event/taller-de-juegos-tradicionales-en-benuza
LOCATION:Benuza\, Benuza\, León\, España
CATEGORIES:Taller
END:VEVENT
END:VCALENDAR