BEGIN:VCALENDAR
VERSION:2.0
PRODID:-//La fueya cabreiresa - ECPv5.10.0//NONSGML v1.0//EN
CALSCALE:GREGORIAN
METHOD:PUBLISH
X-WR-CALNAME:La fueya cabreiresa
X-ORIGINAL-URL:https://lafueyacabreiresa.com
X-WR-CALDESC:Eventos para La fueya cabreiresa
BEGIN:VTIMEZONE
TZID:UTC
BEGIN:STANDARD
TZOFFSETFROM:+0000
TZOFFSETTO:+0000
TZNAME:UTC
DTSTART:20180101T000000
END:STANDARD
END:VTIMEZONE
BEGIN:VEVENT
DTSTART;TZID=UTC:20180816T170000
DTEND;TZID=UTC:20180816T170000
DTSTAMP:20260421T111722
CREATED:20180809T115229Z
LAST-MODIFIED:20180809T115229Z
UID:2889-1534438800-1534438800@lafueyacabreiresa.com
SUMMARY:Taller de indumentaria tradicional en Odollo
DESCRIPTION:
URL:https://lafueyacabreiresa.com/event/taller-de-indumentaria-tradicional-en-odollo
LOCATION:Odollo\, Odollo\, León\, España
CATEGORIES:Taller
END:VEVENT
END:VCALENDAR