BEGIN:VCALENDAR
VERSION:2.0
PRODID:-//La fueya cabreiresa - ECPv5.10.0//NONSGML v1.0//EN
CALSCALE:GREGORIAN
METHOD:PUBLISH
X-WR-CALNAME:La fueya cabreiresa
X-ORIGINAL-URL:https://lafueyacabreiresa.com
X-WR-CALDESC:Eventos para La fueya cabreiresa
BEGIN:VTIMEZONE
TZID:UTC
BEGIN:STANDARD
TZOFFSETFROM:+0000
TZOFFSETTO:+0000
TZNAME:UTC
DTSTART:20190101T000000
END:STANDARD
END:VTIMEZONE
BEGIN:VEVENT
DTSTART;TZID=UTC:20190811T110000
DTEND;TZID=UTC:20190811T120000
DTSTAMP:20260425T032621
CREATED:20190720T074152Z
LAST-MODIFIED:20190720T074152Z
UID:5887-1565521200-1565524800@lafueyacabreiresa.com
SUMMARY:TALLER DE ESCULTURA Y RECICLAJE "OBJETOS PERDIDOS". LOCAL ASOCIACION CULTURAL TRUCHAS.
DESCRIPTION:
URL:https://lafueyacabreiresa.com/event/taller-de-escultura-y-reciclaje-objetos-perdidos-local-asociacion-cultural-truchas
LOCATION:Local Asociación Cultural Truchas
END:VEVENT
END:VCALENDAR