BEGIN:VCALENDAR
VERSION:2.0
PRODID:-//La fueya cabreiresa - ECPv5.10.0//NONSGML v1.0//EN
CALSCALE:GREGORIAN
METHOD:PUBLISH
X-WR-CALNAME:La fueya cabreiresa
X-ORIGINAL-URL:https://lafueyacabreiresa.com
X-WR-CALDESC:Eventos para La fueya cabreiresa
BEGIN:VTIMEZONE
TZID:UTC
BEGIN:STANDARD
TZOFFSETFROM:+0000
TZOFFSETTO:+0000
TZNAME:UTC
DTSTART:20180101T000000
END:STANDARD
END:VTIMEZONE
BEGIN:VEVENT
DTSTART;TZID=UTC:20180806T110000
DTEND;TZID=UTC:20180806T110000
DTSTAMP:20260421T123029
CREATED:20180731T063949Z
LAST-MODIFIED:20180731T064154Z
UID:2630-1533553200-1533553200@lafueyacabreiresa.com
SUMMARY:Taller de escultura en Benuza
DESCRIPTION:
URL:https://lafueyacabreiresa.com/event/taller-de-escultura-en-benuza
LOCATION:Benuza\, Benuza\, León\, España
CATEGORIES:Curso
END:VEVENT
END:VCALENDAR