BEGIN:VCALENDAR
VERSION:2.0
PRODID:-//La fueya cabreiresa - ECPv5.10.0//NONSGML v1.0//EN
CALSCALE:GREGORIAN
METHOD:PUBLISH
X-WR-CALNAME:La fueya cabreiresa
X-ORIGINAL-URL:https://lafueyacabreiresa.com
X-WR-CALDESC:Eventos para La fueya cabreiresa
BEGIN:VTIMEZONE
TZID:UTC
BEGIN:STANDARD
TZOFFSETFROM:+0000
TZOFFSETTO:+0000
TZNAME:UTC
DTSTART:20190101T000000
END:STANDARD
END:VTIMEZONE
BEGIN:VEVENT
DTSTART;TZID=UTC:20190805T100000
DTEND;TZID=UTC:20190805T230000
DTSTAMP:20260425T134856
CREATED:20190719T183413Z
LAST-MODIFIED:20190719T183413Z
UID:5826-1564999200-1565046000@lafueyacabreiresa.com
SUMMARY:TALLER DE ENCAJE PARA NIÑOS. CASA DE LA PORTIELLA. VILLAR.
DESCRIPTION:
URL:https://lafueyacabreiresa.com/event/taller-de-encaje-para-ninos-casa-de-la-portiella-villar
LOCATION:Villar del Monte
END:VEVENT
END:VCALENDAR