BEGIN:VCALENDAR
VERSION:2.0
PRODID:-//La fueya cabreiresa - ECPv5.10.0//NONSGML v1.0//EN
CALSCALE:GREGORIAN
METHOD:PUBLISH
X-WR-CALNAME:La fueya cabreiresa
X-ORIGINAL-URL:https://lafueyacabreiresa.com
X-WR-CALDESC:Eventos para La fueya cabreiresa
BEGIN:VTIMEZONE
TZID:UTC
BEGIN:STANDARD
TZOFFSETFROM:+0000
TZOFFSETTO:+0000
TZNAME:UTC
DTSTART:20190101T000000
END:STANDARD
END:VTIMEZONE
BEGIN:VEVENT
DTSTART;TZID=UTC:20190806T180000
DTEND;TZID=UTC:20190806T190000
DTSTAMP:20260426T000320
CREATED:20190719T185205Z
LAST-MODIFIED:20190720T095420Z
UID:5841-1565114400-1565118000@lafueyacabreiresa.com
SUMMARY:TALLER DE CESTERÍA. ESCUELAS DE POZOS.
DESCRIPTION:
URL:https://lafueyacabreiresa.com/event/taller-de-cesteria-escuelas-de-pozos
LOCATION:Pozos\, Pozos\, León
END:VEVENT
END:VCALENDAR