BEGIN:VCALENDAR
VERSION:2.0
PRODID:-//La fueya cabreiresa - ECPv5.10.0//NONSGML v1.0//EN
CALSCALE:GREGORIAN
METHOD:PUBLISH
X-WR-CALNAME:La fueya cabreiresa
X-ORIGINAL-URL:https://lafueyacabreiresa.com
X-WR-CALDESC:Eventos para La fueya cabreiresa
BEGIN:VTIMEZONE
TZID:UTC
BEGIN:STANDARD
TZOFFSETFROM:+0000
TZOFFSETTO:+0000
TZNAME:UTC
DTSTART:20180101T000000
END:STANDARD
END:VTIMEZONE
BEGIN:VEVENT
DTSTART;VALUE=DATE:20180808
DTEND;VALUE=DATE:20180809
DTSTAMP:20260422T001323
CREATED:20180807T170950Z
LAST-MODIFIED:20180807T170950Z
UID:2838-1533686400-1533772799@lafueyacabreiresa.com
SUMMARY:Santa Colomba Truchas
DESCRIPTION:
URL:https://lafueyacabreiresa.com/event/santa-colomba-truchas
END:VEVENT
END:VCALENDAR