BEGIN:VCALENDAR
VERSION:2.0
PRODID:-//La fueya cabreiresa - ECPv5.10.0//NONSGML v1.0//EN
CALSCALE:GREGORIAN
METHOD:PUBLISH
X-WR-CALNAME:La fueya cabreiresa
X-ORIGINAL-URL:https://lafueyacabreiresa.com
X-WR-CALDESC:Eventos para La fueya cabreiresa
BEGIN:VTIMEZONE
TZID:UTC
BEGIN:STANDARD
TZOFFSETFROM:+0000
TZOFFSETTO:+0000
TZNAME:UTC
DTSTART:20180101T000000
END:STANDARD
END:VTIMEZONE
BEGIN:VEVENT
DTSTART;TZID=UTC:20180811T210000
DTEND;TZID=UTC:20180811T210000
DTSTAMP:20260421T220550
CREATED:20180809T113700Z
LAST-MODIFIED:20180809T113700Z
UID:2867-1534021200-1534021200@lafueyacabreiresa.com
SUMMARY:Ruta nocturna al castro romano del Xixéu para ver las Perseidas y etnoastronomía en La Cuesta
DESCRIPTION:
URL:https://lafueyacabreiresa.com/event/ruta-nocturna-al-castro-romano-del-xixeu-para-ver-las-perseidas-y-etnoastronomia-en-la-cuesta
LOCATION:La Cuesta\, La Cuesta\, León\, España
CATEGORIES:Excursión
END:VEVENT
END:VCALENDAR