BEGIN:VCALENDAR
VERSION:2.0
PRODID:-//La fueya cabreiresa - ECPv5.10.0//NONSGML v1.0//EN
CALSCALE:GREGORIAN
METHOD:PUBLISH
X-WR-CALNAME:La fueya cabreiresa
X-ORIGINAL-URL:https://lafueyacabreiresa.com
X-WR-CALDESC:Eventos para La fueya cabreiresa
BEGIN:VTIMEZONE
TZID:UTC
BEGIN:STANDARD
TZOFFSETFROM:+0000
TZOFFSETTO:+0000
TZNAME:UTC
DTSTART:20180101T000000
END:STANDARD
END:VTIMEZONE
BEGIN:VEVENT
DTSTART;VALUE=DATE:20180810
DTEND;VALUE=DATE:20180813
DTSTAMP:20260424T085043
CREATED:20180626T142757Z
LAST-MODIFIED:20180803T142600Z
UID:1990-1533859200-1534118399@lafueyacabreiresa.com
SUMMARY:Pulpada de Odollo
DESCRIPTION:
URL:https://lafueyacabreiresa.com/event/pulpada-de-odollo
END:VEVENT
END:VCALENDAR