BEGIN:VCALENDAR
VERSION:2.0
PRODID:-//La fueya cabreiresa - ECPv5.10.0//NONSGML v1.0//EN
CALSCALE:GREGORIAN
METHOD:PUBLISH
X-WR-CALNAME:La fueya cabreiresa
X-ORIGINAL-URL:https://lafueyacabreiresa.com
X-WR-CALDESC:Eventos para La fueya cabreiresa
BEGIN:VTIMEZONE
TZID:UTC
BEGIN:STANDARD
TZOFFSETFROM:+0000
TZOFFSETTO:+0000
TZNAME:UTC
DTSTART:20180101T000000
END:STANDARD
END:VTIMEZONE
BEGIN:VEVENT
DTSTART;TZID=UTC:20181101T170000
DTEND;TZID=UTC:20181101T183000
DTSTAMP:20260424T102642
CREATED:20181026T114507Z
LAST-MODIFIED:20181026T114507Z
UID:3716-1541091600-1541097000@lafueyacabreiresa.com
SUMMARY:Proyección Documental del Ramo en Sigüeya
DESCRIPTION:
URL:https://lafueyacabreiresa.com/event/proyeccion-documental-del-ramo-en-sigueya
LOCATION:Casa del pueblo de Sigüeya\, Sigüeya
CATEGORIES:Cine
ATTACH;FMTTYPE=image/jpeg:https://lafueyacabreiresa.com/wp-content/uploads/2018/10/Cartel.jpg
END:VEVENT
END:VCALENDAR