BEGIN:VCALENDAR
VERSION:2.0
PRODID:-//La fueya cabreiresa - ECPv5.10.0//NONSGML v1.0//EN
CALSCALE:GREGORIAN
METHOD:PUBLISH
X-WR-CALNAME:La fueya cabreiresa
X-ORIGINAL-URL:https://lafueyacabreiresa.com
X-WR-CALDESC:Eventos para La fueya cabreiresa
BEGIN:VTIMEZONE
TZID:UTC
BEGIN:STANDARD
TZOFFSETFROM:+0000
TZOFFSETTO:+0000
TZNAME:UTC
DTSTART:20200101T000000
END:STANDARD
END:VTIMEZONE
BEGIN:VEVENT
DTSTART;TZID=UTC:20200613T000000
DTEND;TZID=UTC:20200613T180000
DTSTAMP:20260425T221829
CREATED:20200606T101846Z
LAST-MODIFIED:20200606T103014Z
UID:8179-1592006400-1592071200@lafueyacabreiresa.com
SUMMARY:Recetas Cabreiresas. Empanada y patatas rojas. Remedios Arias
DESCRIPTION:PRIMABINAR CABREIRÉS
URL:https://lafueyacabreiresa.com/event/primabinar-cabreires-recetas-cabreiresas-empanada-y-patatas-rojas-remedios-arias
CATEGORIES:Conferencia
END:VEVENT
END:VCALENDAR