BEGIN:VCALENDAR
VERSION:2.0
PRODID:-//La fueya cabreiresa - ECPv5.10.0//NONSGML v1.0//EN
CALSCALE:GREGORIAN
METHOD:PUBLISH
X-WR-CALNAME:La fueya cabreiresa
X-ORIGINAL-URL:https://lafueyacabreiresa.com
X-WR-CALDESC:Eventos para La fueya cabreiresa
BEGIN:VTIMEZONE
TZID:UTC
BEGIN:STANDARD
TZOFFSETFROM:+0000
TZOFFSETTO:+0000
TZNAME:UTC
DTSTART:20200101T000000
END:STANDARD
END:VTIMEZONE
BEGIN:VEVENT
DTSTART;TZID=UTC:20200614T000000
DTEND;TZID=UTC:20200614T180000
DTSTAMP:20260426T000444
CREATED:20200606T102011Z
LAST-MODIFIED:20200606T103006Z
UID:8181-1592092800-1592157600@lafueyacabreiresa.com
SUMMARY:Receta Cabreiresa. Timbal frío de patatas\, garbanzos\, bacalao y pimentón. Susana Aragón
DESCRIPTION:PRIMABINAR CABREIRÉS
URL:https://lafueyacabreiresa.com/event/primabinar-cabreires-receta-cabreiresa-timbal-frio-de-patatas-garbanzos-bacalao-y-pimenton-susana-aragon
CATEGORIES:Conferencia
END:VEVENT
END:VCALENDAR