BEGIN:VCALENDAR
VERSION:2.0
PRODID:-//La fueya cabreiresa - ECPv5.10.0//NONSGML v1.0//EN
CALSCALE:GREGORIAN
METHOD:PUBLISH
X-WR-CALNAME:La fueya cabreiresa
X-ORIGINAL-URL:https://lafueyacabreiresa.com
X-WR-CALDESC:Eventos para La fueya cabreiresa
BEGIN:VTIMEZONE
TZID:UTC
BEGIN:STANDARD
TZOFFSETFROM:+0000
TZOFFSETTO:+0000
TZNAME:UTC
DTSTART:20190101T000000
END:STANDARD
END:VTIMEZONE
BEGIN:VEVENT
DTSTART;TZID=UTC:20190818T193000
DTEND;TZID=UTC:20190818T203000
DTSTAMP:20260425T102555
CREATED:20190720T091547Z
LAST-MODIFIED:20190720T100224Z
UID:5936-1566156600-1566160200@lafueyacabreiresa.com
SUMMARY:PRESENTACIÓN REVISTA "LA FIXUCA". LOCAL IEC CASTRILLO
DESCRIPTION:
URL:https://lafueyacabreiresa.com/event/presentacion-revista-la-fixuca-local-iec-castrillo
LOCATION:Local IEC Castrillo
END:VEVENT
END:VCALENDAR