BEGIN:VCALENDAR
VERSION:2.0
PRODID:-//La fueya cabreiresa - ECPv5.10.0//NONSGML v1.0//EN
CALSCALE:GREGORIAN
METHOD:PUBLISH
X-WR-CALNAME:La fueya cabreiresa
X-ORIGINAL-URL:https://lafueyacabreiresa.com
X-WR-CALDESC:Eventos para La fueya cabreiresa
BEGIN:VTIMEZONE
TZID:UTC
BEGIN:STANDARD
TZOFFSETFROM:+0000
TZOFFSETTO:+0000
TZNAME:UTC
DTSTART:20190101T000000
END:STANDARD
END:VTIMEZONE
BEGIN:VEVENT
DTSTART;TZID=UTC:20190824T173000
DTEND;TZID=UTC:20190824T183000
DTSTAMP:20260425T134712
CREATED:20190720T093820Z
LAST-MODIFIED:20190720T093820Z
UID:5955-1566667800-1566671400@lafueyacabreiresa.com
SUMMARY:PRESENTACIÓN REVISTA "LA FIXUCA". BAR MANDO\, POMBRIEGO.
DESCRIPTION:
URL:https://lafueyacabreiresa.com/event/presentacion-revista-la-fixuca-bar-mando-pombriego
LOCATION:Pombriego\, León
END:VEVENT
END:VCALENDAR