BEGIN:VCALENDAR
VERSION:2.0
PRODID:-//La fueya cabreiresa - ECPv5.10.0//NONSGML v1.0//EN
CALSCALE:GREGORIAN
METHOD:PUBLISH
X-WR-CALNAME:La fueya cabreiresa
X-ORIGINAL-URL:https://lafueyacabreiresa.com
X-WR-CALDESC:Eventos para La fueya cabreiresa
BEGIN:VTIMEZONE
TZID:UTC
BEGIN:STANDARD
TZOFFSETFROM:+0000
TZOFFSETTO:+0000
TZNAME:UTC
DTSTART:20180101T000000
END:STANDARD
END:VTIMEZONE
BEGIN:VEVENT
DTSTART;TZID=UTC:20180807T100000
DTEND;TZID=UTC:20180807T100000
DTSTAMP:20260421T205632
CREATED:20180806T065546Z
LAST-MODIFIED:20180806T065546Z
UID:2770-1533636000-1533636000@lafueyacabreiresa.com
SUMMARY:Plantada de árboles en Valdavido
DESCRIPTION:
URL:https://lafueyacabreiresa.com/event/plantada-de-arboles-en-valdavido
LOCATION:Valdavido\, Valdavido\, León\, España
CATEGORIES:Jornadas
END:VEVENT
END:VCALENDAR