BEGIN:VCALENDAR
VERSION:2.0
PRODID:-//La fueya cabreiresa - ECPv5.10.0//NONSGML v1.0//EN
CALSCALE:GREGORIAN
METHOD:PUBLISH
X-WR-CALNAME:La fueya cabreiresa
X-ORIGINAL-URL:https://lafueyacabreiresa.com
X-WR-CALDESC:Eventos para La fueya cabreiresa
BEGIN:VTIMEZONE
TZID:UTC
BEGIN:STANDARD
TZOFFSETFROM:+0000
TZOFFSETTO:+0000
TZNAME:UTC
DTSTART:20180101T000000
END:STANDARD
END:VTIMEZONE
BEGIN:VEVENT
DTSTART;VALUE=DATE:20181103
DTEND;VALUE=DATE:20181104
DTSTAMP:20260424T085155
CREATED:20181026T114319Z
LAST-MODIFIED:20181026T114319Z
UID:3714-1541203200-1541289599@lafueyacabreiresa.com
SUMMARY:Magostu Ambulante
DESCRIPTION:
URL:https://lafueyacabreiresa.com/event/magostu-ambulante
LOCATION:Aula de la Ñaturaleza de Valdaviéu\, Valdavido\, Leó\, 24740\, España
CATEGORIES:Conferencia,Fiesta
END:VEVENT
END:VCALENDAR