BEGIN:VCALENDAR
VERSION:2.0
PRODID:-//La fueya cabreiresa - ECPv5.10.0//NONSGML v1.0//EN
CALSCALE:GREGORIAN
METHOD:PUBLISH
X-WR-CALNAME:La fueya cabreiresa
X-ORIGINAL-URL:https://lafueyacabreiresa.com
X-WR-CALDESC:Eventos para La fueya cabreiresa
BEGIN:VTIMEZONE
TZID:UTC
BEGIN:STANDARD
TZOFFSETFROM:+0000
TZOFFSETTO:+0000
TZNAME:UTC
DTSTART:20190101T000000
END:STANDARD
END:VTIMEZONE
BEGIN:VEVENT
DTSTART;VALUE=DATE:20190816
DTEND;VALUE=DATE:20190818
DTSTAMP:20260425T020710
CREATED:20190718T191129Z
LAST-MODIFIED:20190718T192132Z
UID:5793-1565913600-1566086399@lafueyacabreiresa.com
SUMMARY:IV Feria del libro de Cabreira
DESCRIPTION:16 de agosto. Trueitas/Truchas \n18:00 FERIA DEL LIBRO INFANTIL: \n\nPresentación de libros.\nCuentacuentos.\nMercadillo.\n\n  \n17 de agosto . Trueitas/Truchas \n11:00 FERIA DEL LIBRO: \n\nPresentación de libros.\nCharlas.\nMercadillo.\nTaller de indumentaria tradicional.\nConcierto de música tradicional.
URL:https://lafueyacabreiresa.com/event/iv-feria-del-libro-de-cabreira
LOCATION:Aula Cabreiresa Colegio de Truchas\, Colegio de Truchas\, Truchas\, León\, 24740\, España
CATEGORIES:Cuentacuentos,Feria,Presentación de libro,Taller
END:VEVENT
END:VCALENDAR