BEGIN:VCALENDAR
VERSION:2.0
PRODID:-//La fueya cabreiresa - ECPv5.10.0//NONSGML v1.0//EN
CALSCALE:GREGORIAN
METHOD:PUBLISH
X-WR-CALNAME:La fueya cabreiresa
X-ORIGINAL-URL:https://lafueyacabreiresa.com
X-WR-CALDESC:Eventos para La fueya cabreiresa
BEGIN:VTIMEZONE
TZID:UTC
BEGIN:STANDARD
TZOFFSETFROM:+0000
TZOFFSETTO:+0000
TZNAME:UTC
DTSTART:20190101T000000
END:STANDARD
END:VTIMEZONE
BEGIN:VEVENT
DTSTART;VALUE=DATE:20190921
DTEND;VALUE=DATE:20190923
DTSTAMP:20260425T133650
CREATED:20190911T074311Z
LAST-MODIFIED:20190911T074311Z
UID:6445-1569024000-1569196799@lafueyacabreiresa.com
SUMMARY:III Cursu d’Encuestadores de la Tradición Oral en Llión
DESCRIPTION:Primer fin de semana del curso.
URL:https://lafueyacabreiresa.com/event/iii-cursu-dencuestadores-de-la-tradicion-oral-en-llion
LOCATION:Aula Cabreiresa Colegio de Truchas\, Colegio de Truchas\, Truchas\, León\, 24740\, España
CATEGORIES:Curso
END:VEVENT
END:VCALENDAR