BEGIN:VCALENDAR
VERSION:2.0
PRODID:-//La fueya cabreiresa - ECPv5.10.0//NONSGML v1.0//EN
CALSCALE:GREGORIAN
METHOD:PUBLISH
X-WR-CALNAME:La fueya cabreiresa
X-ORIGINAL-URL:https://lafueyacabreiresa.com
X-WR-CALDESC:Eventos para La fueya cabreiresa
BEGIN:VTIMEZONE
TZID:UTC
BEGIN:STANDARD
TZOFFSETFROM:+0000
TZOFFSETTO:+0000
TZNAME:UTC
DTSTART:20180101T000000
END:STANDARD
END:VTIMEZONE
BEGIN:VEVENT
DTSTART;VALUE=DATE:20180804
DTEND;VALUE=DATE:20180805
DTSTAMP:20260422T001606
CREATED:20180626T143249Z
LAST-MODIFIED:20180713T171012Z
UID:1993-1533340800-1533427199@lafueyacabreiresa.com
SUMMARY:II Subida de la pizarra
DESCRIPTION:
URL:https://lafueyacabreiresa.com/event/ii-subida-de-la-pizarra
END:VEVENT
END:VCALENDAR