BEGIN:VCALENDAR
VERSION:2.0
PRODID:-//La fueya cabreiresa - ECPv5.10.0//NONSGML v1.0//EN
CALSCALE:GREGORIAN
METHOD:PUBLISH
X-WR-CALNAME:La fueya cabreiresa
X-ORIGINAL-URL:https://lafueyacabreiresa.com
X-WR-CALDESC:Eventos para La fueya cabreiresa
BEGIN:VTIMEZONE
TZID:UTC
BEGIN:STANDARD
TZOFFSETFROM:+0000
TZOFFSETTO:+0000
TZNAME:UTC
DTSTART:20180101T000000
END:STANDARD
END:VTIMEZONE
BEGIN:VEVENT
DTSTART;VALUE=DATE:20180728
DTEND;VALUE=DATE:20180730
DTSTAMP:20260421T221938
CREATED:20180626T142518Z
LAST-MODIFIED:20180626T142518Z
UID:1987-1532736000-1532908799@lafueyacabreiresa.com
SUMMARY:Fiestas Magdalena Noceda
DESCRIPTION:
URL:https://lafueyacabreiresa.com/event/fiestas-magdalena-noceda
END:VEVENT
END:VCALENDAR