BEGIN:VCALENDAR
VERSION:2.0
PRODID:-//La fueya cabreiresa - ECPv5.10.0//NONSGML v1.0//EN
CALSCALE:GREGORIAN
METHOD:PUBLISH
X-WR-CALNAME:La fueya cabreiresa
X-ORIGINAL-URL:https://lafueyacabreiresa.com
X-WR-CALDESC:Eventos para La fueya cabreiresa
BEGIN:VTIMEZONE
TZID:UTC
BEGIN:STANDARD
TZOFFSETFROM:+0000
TZOFFSETTO:+0000
TZNAME:UTC
DTSTART:20180101T000000
END:STANDARD
END:VTIMEZONE
BEGIN:VEVENT
DTSTART;VALUE=DATE:20180629
DTEND;VALUE=DATE:20180702
DTSTAMP:20260422T033229
CREATED:20180627T125255Z
LAST-MODIFIED:20180627T125255Z
UID:2011-1530230400-1530489599@lafueyacabreiresa.com
SUMMARY:Fiestas de San Pedro en Quintanilla de Losada
DESCRIPTION:
URL:https://lafueyacabreiresa.com/event/fiestas-de-san-pedro-en-quintanilla-de-losada
LOCATION:Quintanilla de Losada\, Quintanilla de Losada
CATEGORIES:Fiesta
END:VEVENT
END:VCALENDAR