BEGIN:VCALENDAR
VERSION:2.0
PRODID:-//La fueya cabreiresa - ECPv5.10.0//NONSGML v1.0//EN
CALSCALE:GREGORIAN
METHOD:PUBLISH
X-WR-CALNAME:La fueya cabreiresa
X-ORIGINAL-URL:https://lafueyacabreiresa.com
X-WR-CALDESC:Eventos para La fueya cabreiresa
BEGIN:VTIMEZONE
TZID:UTC
BEGIN:STANDARD
TZOFFSETFROM:+0000
TZOFFSETTO:+0000
TZNAME:UTC
DTSTART:20180101T000000
END:STANDARD
END:VTIMEZONE
BEGIN:VEVENT
DTSTART;VALUE=DATE:20180630
DTEND;VALUE=DATE:20180702
DTSTAMP:20260422T014034
CREATED:20180629T063203Z
LAST-MODIFIED:20180629T063203Z
UID:2085-1530316800-1530489599@lafueyacabreiresa.com
SUMMARY:Fiestas de Lomba
DESCRIPTION:
URL:https://lafueyacabreiresa.com/event/fiestas-de-lomba
LOCATION:Lomba\, Lomba
CATEGORIES:Fiesta
END:VEVENT
END:VCALENDAR