BEGIN:VCALENDAR
VERSION:2.0
PRODID:-//La fueya cabreiresa - ECPv5.10.0//NONSGML v1.0//EN
CALSCALE:GREGORIAN
METHOD:PUBLISH
X-WR-CALNAME:La fueya cabreiresa
X-ORIGINAL-URL:https://lafueyacabreiresa.com
X-WR-CALDESC:Eventos para La fueya cabreiresa
BEGIN:VTIMEZONE
TZID:UTC
BEGIN:STANDARD
TZOFFSETFROM:+0000
TZOFFSETTO:+0000
TZNAME:UTC
DTSTART:20180101T000000
END:STANDARD
END:VTIMEZONE
BEGIN:VEVENT
DTSTART;VALUE=DATE:20180714
DTEND;VALUE=DATE:20180715
DTSTAMP:20260422T014034
CREATED:20180621T170126Z
LAST-MODIFIED:20180621T184223Z
UID:1934-1531526400-1531612799@lafueyacabreiresa.com
SUMMARY:Fiesta de Cabrera
DESCRIPTION:
URL:https://lafueyacabreiresa.com/event/fiesta-de-la-cabrera
END:VEVENT
END:VCALENDAR