BEGIN:VCALENDAR
VERSION:2.0
PRODID:-//La fueya cabreiresa - ECPv5.10.0//NONSGML v1.0//EN
CALSCALE:GREGORIAN
METHOD:PUBLISH
X-WR-CALNAME:La fueya cabreiresa
X-ORIGINAL-URL:https://lafueyacabreiresa.com
X-WR-CALDESC:Eventos para La fueya cabreiresa
BEGIN:VTIMEZONE
TZID:UTC
BEGIN:STANDARD
TZOFFSETFROM:+0000
TZOFFSETTO:+0000
TZNAME:UTC
DTSTART:20190101T000000
END:STANDARD
END:VTIMEZONE
BEGIN:VEVENT
DTSTART;TZID=UTC:20190807T200000
DTEND;TZID=UTC:20190807T210000
DTSTAMP:20260425T155959
CREATED:20190720T071544Z
LAST-MODIFIED:20190720T071611Z
UID:5858-1565208000-1565211600@lafueyacabreiresa.com
SUMMARY:ESPECTÁCULO DE MAGIA "VICENTE LUCCA". AULA CABREIRESA DE TRUCHAS.
DESCRIPTION:
URL:https://lafueyacabreiresa.com/event/espectaculo-de-magia-vicente-lucca-aula-cabreiresa-de-truchas
LOCATION:Aula Cabreiresa Colegio de Truchas\, Colegio de Truchas\, Truchas\, León\, 24740\, España
END:VEVENT
END:VCALENDAR