BEGIN:VCALENDAR
VERSION:2.0
PRODID:-//La fueya cabreiresa - ECPv5.10.0//NONSGML v1.0//EN
CALSCALE:GREGORIAN
METHOD:PUBLISH
X-WR-CALNAME:La fueya cabreiresa
X-ORIGINAL-URL:https://lafueyacabreiresa.com
X-WR-CALDESC:Eventos para La fueya cabreiresa
BEGIN:VTIMEZONE
TZID:UTC
BEGIN:STANDARD
TZOFFSETFROM:+0000
TZOFFSETTO:+0000
TZNAME:UTC
DTSTART:20190101T000000
END:STANDARD
END:VTIMEZONE
BEGIN:VEVENT
DTSTART;TZID=UTC:20190813T120000
DTEND;TZID=UTC:20190813T130000
DTSTAMP:20260425T163439
CREATED:20190720T080454Z
LAST-MODIFIED:20190720T095817Z
UID:5908-1565697600-1565701200@lafueyacabreiresa.com
SUMMARY:ESPECTÁCULO DE MAGIA. LOCAL ASOCIACIÓN ODOLLO.
DESCRIPTION:
URL:https://lafueyacabreiresa.com/event/espectaculo-de-magia-local-asociacion-odollo
LOCATION:Odollo\, Odollo\, León\, España
END:VEVENT
END:VCALENDAR