BEGIN:VCALENDAR
VERSION:2.0
PRODID:-//La fueya cabreiresa - ECPv5.10.0//NONSGML v1.0//EN
CALSCALE:GREGORIAN
METHOD:PUBLISH
X-WR-CALNAME:La fueya cabreiresa
X-ORIGINAL-URL:https://lafueyacabreiresa.com
X-WR-CALDESC:Eventos para La fueya cabreiresa
BEGIN:VTIMEZONE
TZID:UTC
BEGIN:STANDARD
TZOFFSETFROM:+0000
TZOFFSETTO:+0000
TZNAME:UTC
DTSTART:20190101T000000
END:STANDARD
END:VTIMEZONE
BEGIN:VEVENT
DTSTART;TZID=UTC:20190813T180000
DTEND;TZID=UTC:20190813T190000
DTSTAMP:20260425T150107
CREATED:20190720T080600Z
LAST-MODIFIED:20190720T095846Z
UID:5910-1565719200-1565722800@lafueyacabreiresa.com
SUMMARY:ESPECTÁCULO DE MAGIA. CASA DEL PUEBLO DE SIGÜEYA.
DESCRIPTION:
URL:https://lafueyacabreiresa.com/event/espectaculo-de-magia-casa-del-pueblo-de-sigueya
LOCATION:Casa del pueblo de Sigüeya\, Sigüeya
END:VEVENT
END:VCALENDAR