BEGIN:VCALENDAR
VERSION:2.0
PRODID:-//La fueya cabreiresa - ECPv5.10.0//NONSGML v1.0//EN
CALSCALE:GREGORIAN
METHOD:PUBLISH
X-WR-CALNAME:La fueya cabreiresa
X-ORIGINAL-URL:https://lafueyacabreiresa.com
X-WR-CALDESC:Eventos para La fueya cabreiresa
BEGIN:VTIMEZONE
TZID:UTC
BEGIN:STANDARD
TZOFFSETFROM:+0000
TZOFFSETTO:+0000
TZNAME:UTC
DTSTART:20190101T000000
END:STANDARD
END:VTIMEZONE
BEGIN:VEVENT
DTSTART;TZID=UTC:20190805T120000
DTEND;TZID=UTC:20190805T130000
DTSTAMP:20260425T172124
CREATED:20190719T183719Z
LAST-MODIFIED:20190720T095225Z
UID:5830-1565006400-1565010000@lafueyacabreiresa.com
SUMMARY:ESPECTÁCULO DE MAGIA. CASA DE LA CULTURA DE LA CUESTA.
DESCRIPTION:
URL:https://lafueyacabreiresa.com/event/espectaculo-de-magia-casa-de-la-cultura-de-la-cuesta
LOCATION:La Cuesta\, La Cuesta\, León\, España
END:VEVENT
END:VCALENDAR