BEGIN:VCALENDAR
VERSION:2.0
PRODID:-//La fueya cabreiresa - ECPv5.10.0//NONSGML v1.0//EN
CALSCALE:GREGORIAN
METHOD:PUBLISH
X-WR-CALNAME:La fueya cabreiresa
X-ORIGINAL-URL:https://lafueyacabreiresa.com
X-WR-CALDESC:Eventos para La fueya cabreiresa
BEGIN:VTIMEZONE
TZID:UTC
BEGIN:STANDARD
TZOFFSETFROM:+0000
TZOFFSETTO:+0000
TZNAME:UTC
DTSTART:20200101T000000
END:STANDARD
END:VTIMEZONE
BEGIN:VEVENT
DTSTART;TZID=UTC:20200712T000000
DTEND;TZID=UTC:20200712T180000
DTSTAMP:20260420T144918
CREATED:20200606T104104Z
LAST-MODIFIED:20200606T104104Z
UID:8205-1594512000-1594576800@lafueyacabreiresa.com
SUMMARY:El pobláu fortificáu de La Cuesta (Cabreira – Llión): ente l’Imperiu Romanu y la Edá Media en Cabreira. Andrés Menéndez Blanco
DESCRIPTION:PRIMABINAR CABREIRÉS
URL:https://lafueyacabreiresa.com/event/el-poblau-fortificau-de-la-cuesta-cabreira-llion-ente-limperiu-romanu-y-la-eda-media-en-cabreira-andres-menendez-blanco
CATEGORIES:Conferencia
END:VEVENT
END:VCALENDAR