BEGIN:VCALENDAR
VERSION:2.0
PRODID:-//La fueya cabreiresa - ECPv5.10.0//NONSGML v1.0//EN
CALSCALE:GREGORIAN
METHOD:PUBLISH
X-WR-CALNAME:La fueya cabreiresa
X-ORIGINAL-URL:https://lafueyacabreiresa.com
X-WR-CALDESC:Eventos para La fueya cabreiresa
BEGIN:VTIMEZONE
TZID:UTC
BEGIN:STANDARD
TZOFFSETFROM:+0000
TZOFFSETTO:+0000
TZNAME:UTC
DTSTART:20190101T000000
END:STANDARD
END:VTIMEZONE
BEGIN:VEVENT
DTSTART;TZID=UTC:20190505T080000
DTEND;TZID=UTC:20190505T170000
DTSTAMP:20260424T213135
CREATED:20190502T150620Z
LAST-MODIFIED:20190502T150620Z
UID:5145-1557043200-1557075600@lafueyacabreiresa.com
SUMMARY:Ecce Homo Pozos
DESCRIPTION:
URL:https://lafueyacabreiresa.com/event/ecce-homo-pozos
END:VEVENT
END:VCALENDAR