BEGIN:VCALENDAR
VERSION:2.0
PRODID:-//La fueya cabreiresa - ECPv5.10.0//NONSGML v1.0//EN
CALSCALE:GREGORIAN
METHOD:PUBLISH
X-WR-CALNAME:La fueya cabreiresa
X-ORIGINAL-URL:https://lafueyacabreiresa.com
X-WR-CALDESC:Eventos para La fueya cabreiresa
BEGIN:VTIMEZONE
TZID:UTC
BEGIN:STANDARD
TZOFFSETFROM:+0000
TZOFFSETTO:+0000
TZNAME:UTC
DTSTART:20190101T000000
END:STANDARD
END:VTIMEZONE
BEGIN:VEVENT
DTSTART;TZID=UTC:20190806T190000
DTEND;TZID=UTC:20190806T200000
DTSTAMP:20260425T233038
CREATED:20190719T185326Z
LAST-MODIFIED:20190719T185326Z
UID:5843-1565118000-1565121600@lafueyacabreiresa.com
SUMMARY:DOCUMENTALES: "LOBOS SUCIOS" Y "CIUDAD DE LA SELVA". ESCUELAS DE IRUELA.
DESCRIPTION:
URL:https://lafueyacabreiresa.com/event/documentales-lobos-sucios-y-ciudad-de-la-selva-escuelas-de-iruela
LOCATION:Iruela\, Iruela\, León\, España
END:VEVENT
END:VCALENDAR