BEGIN:VCALENDAR
VERSION:2.0
PRODID:-//La fueya cabreiresa - ECPv5.10.0//NONSGML v1.0//EN
CALSCALE:GREGORIAN
METHOD:PUBLISH
X-WR-CALNAME:La fueya cabreiresa
X-ORIGINAL-URL:https://lafueyacabreiresa.com
X-WR-CALDESC:Eventos para La fueya cabreiresa
BEGIN:VTIMEZONE
TZID:UTC
BEGIN:STANDARD
TZOFFSETFROM:+0000
TZOFFSETTO:+0000
TZNAME:UTC
DTSTART:20190101T000000
END:STANDARD
END:VTIMEZONE
BEGIN:VEVENT
DTSTART;TZID=UTC:20190722T100000
DTEND;TZID=UTC:20190722T230000
DTSTAMP:20260425T031752
CREATED:20190719T180046Z
LAST-MODIFIED:20190719T180817Z
UID:5804-1563789600-1563836400@lafueyacabreiresa.com
SUMMARY:CURSO DE ENCAJE PARA NIÑOS. VILLAR. CASA DE LA PORTIELLA.
DESCRIPTION:
URL:https://lafueyacabreiresa.com/event/curso-de-encaje-para-ninos-villar-casa-de-la-portiella
LOCATION:Villar del Monte
END:VEVENT
END:VCALENDAR