BEGIN:VCALENDAR
VERSION:2.0
PRODID:-//La fueya cabreiresa - ECPv5.10.0//NONSGML v1.0//EN
CALSCALE:GREGORIAN
METHOD:PUBLISH
X-WR-CALNAME:La fueya cabreiresa
X-ORIGINAL-URL:https://lafueyacabreiresa.com
X-WR-CALDESC:Eventos para La fueya cabreiresa
BEGIN:VTIMEZONE
TZID:UTC
BEGIN:STANDARD
TZOFFSETFROM:+0000
TZOFFSETTO:+0000
TZNAME:UTC
DTSTART:20190101T000000
END:STANDARD
END:VTIMEZONE
BEGIN:VEVENT
DTSTART;TZID=UTC:20190420T233000
DTEND;TZID=UTC:20190420T233000
DTSTAMP:20260424T181450
CREATED:20190417T092746Z
LAST-MODIFIED:20190417T092746Z
UID:5000-1555803000-1555803000@lafueyacabreiresa.com
SUMMARY:Concierto de Alva Bayo
DESCRIPTION:
URL:https://lafueyacabreiresa.com/event/concierto-de-alva-bayo
LOCATION:Quintanilla de Losada\, Quintanilla de Losada
CATEGORIES:Concierto
END:VEVENT
END:VCALENDAR