BEGIN:VCALENDAR
VERSION:2.0
PRODID:-//La fueya cabreiresa - ECPv5.10.0//NONSGML v1.0//EN
CALSCALE:GREGORIAN
METHOD:PUBLISH
X-WR-CALNAME:La fueya cabreiresa
X-ORIGINAL-URL:https://lafueyacabreiresa.com
X-WR-CALDESC:Eventos para La fueya cabreiresa
BEGIN:VTIMEZONE
TZID:UTC
BEGIN:STANDARD
TZOFFSETFROM:+0000
TZOFFSETTO:+0000
TZNAME:UTC
DTSTART:20180101T000000
END:STANDARD
END:VTIMEZONE
BEGIN:VEVENT
DTSTART;TZID=UTC:20180811T200000
DTEND;TZID=UTC:20180811T200000
DTSTAMP:20260421T234704
CREATED:20180809T113517Z
LAST-MODIFIED:20180809T113517Z
UID:2865-1534017600-1534017600@lafueyacabreiresa.com
SUMMARY:Cine "Regresadndo al futuro II. Orduña hacia su soberanía alimentaria" y "Entre el día i la nit no hi ha paret" en Valdavido
DESCRIPTION:
URL:https://lafueyacabreiresa.com/event/cine-regresadndo-al-futuro-ii-orduna-hacia-su-soberania-alimentaria-y-entre-el-dia-i-la-nit-no-hi-ha-paret-en-valdavido
LOCATION:Aula de la Ñaturaleza de Valdaviéu\, Valdavido\, Leó\, 24740\, España
CATEGORIES:Cine
END:VEVENT
END:VCALENDAR