BEGIN:VCALENDAR
VERSION:2.0
PRODID:-//La fueya cabreiresa - ECPv5.10.0//NONSGML v1.0//EN
CALSCALE:GREGORIAN
METHOD:PUBLISH
X-WR-CALNAME:La fueya cabreiresa
X-ORIGINAL-URL:https://lafueyacabreiresa.com
X-WR-CALDESC:Eventos para La fueya cabreiresa
BEGIN:VTIMEZONE
TZID:UTC
BEGIN:STANDARD
TZOFFSETFROM:+0000
TZOFFSETTO:+0000
TZNAME:UTC
DTSTART:20190101T000000
END:STANDARD
END:VTIMEZONE
BEGIN:VEVENT
DTSTART;TZID=UTC:20190823T183000
DTEND;TZID=UTC:20190823T193000
DTSTAMP:20260425T153753
CREATED:20190720T093701Z
LAST-MODIFIED:20190720T093701Z
UID:5953-1566585000-1566588600@lafueyacabreiresa.com
SUMMARY:CINE MUSAC "CINE EN FAMILIA". AULA CABREIRESA DE TRUCHAS.
DESCRIPTION:
URL:https://lafueyacabreiresa.com/event/cine-musac-cine-en-familia-aula-cabreiresa-de-truchas
LOCATION:Aula Cabreiresa Colegio de Truchas\, Colegio de Truchas\, Truchas\, León\, 24740\, España
END:VEVENT
END:VCALENDAR