BEGIN:VCALENDAR
VERSION:2.0
PRODID:-//La fueya cabreiresa - ECPv5.10.0//NONSGML v1.0//EN
CALSCALE:GREGORIAN
METHOD:PUBLISH
X-WR-CALNAME:La fueya cabreiresa
X-ORIGINAL-URL:https://lafueyacabreiresa.com
X-WR-CALDESC:Eventos para La fueya cabreiresa
BEGIN:VTIMEZONE
TZID:UTC
BEGIN:STANDARD
TZOFFSETFROM:+0000
TZOFFSETTO:+0000
TZNAME:UTC
DTSTART:20180101T000000
END:STANDARD
END:VTIMEZONE
BEGIN:VEVENT
DTSTART;TZID=UTC:20180813T200000
DTEND;TZID=UTC:20180813T200000
DTSTAMP:20260421T111302
CREATED:20180809T114816Z
LAST-MODIFIED:20180809T114816Z
UID:2881-1534190400-1534190400@lafueyacabreiresa.com
SUMMARY:Cine "El Somni" en Pozos
DESCRIPTION:
URL:https://lafueyacabreiresa.com/event/cine-el-somni-en-pozos
LOCATION:Pozos\, Pozos\, León
CATEGORIES:Cine
END:VEVENT
END:VCALENDAR