BEGIN:VCALENDAR
VERSION:2.0
PRODID:-//La fueya cabreiresa - ECPv5.10.0//NONSGML v1.0//EN
CALSCALE:GREGORIAN
METHOD:PUBLISH
X-WR-CALNAME:La fueya cabreiresa
X-ORIGINAL-URL:https://lafueyacabreiresa.com
X-WR-CALDESC:Eventos para La fueya cabreiresa
BEGIN:VTIMEZONE
TZID:UTC
BEGIN:STANDARD
TZOFFSETFROM:+0000
TZOFFSETTO:+0000
TZNAME:UTC
DTSTART:20190101T000000
END:STANDARD
END:VTIMEZONE
BEGIN:VEVENT
DTSTART;TZID=UTC:20190831T220000
DTEND;TZID=UTC:20190831T233000
DTSTAMP:20260425T102150
CREATED:20190720T094432Z
LAST-MODIFIED:20190720T100501Z
UID:5965-1567288800-1567294200@lafueyacabreiresa.com
SUMMARY:CINE DE VERANO "PETER Y EL DRAGÓN". PATIO DEL COLEGIO DE QUINTANILLA DE LOSADA.
DESCRIPTION:
URL:https://lafueyacabreiresa.com/event/cine-de-verano-peter-y-el-dragon-patio-del-colegio-de-quintanilla-de-losada
LOCATION:Quintanilla de Losada\, Quintanilla de Losada
END:VEVENT
END:VCALENDAR