BEGIN:VCALENDAR
VERSION:2.0
PRODID:-//La fueya cabreiresa - ECPv5.10.0//NONSGML v1.0//EN
CALSCALE:GREGORIAN
METHOD:PUBLISH
X-WR-CALNAME:La fueya cabreiresa
X-ORIGINAL-URL:https://lafueyacabreiresa.com
X-WR-CALDESC:Eventos para La fueya cabreiresa
BEGIN:VTIMEZONE
TZID:UTC
BEGIN:STANDARD
TZOFFSETFROM:+0000
TZOFFSETTO:+0000
TZNAME:UTC
DTSTART:20190101T000000
END:STANDARD
END:VTIMEZONE
BEGIN:VEVENT
DTSTART;TZID=UTC:20190720T220000
DTEND;TZID=UTC:20190720T233000
DTSTAMP:20260425T015346
CREATED:20190720T073919Z
LAST-MODIFIED:20190720T073919Z
UID:5885-1563660000-1563665400@lafueyacabreiresa.com
SUMMARY:CINE DE VERANO "EL CASCANUECES Y LOS CUATRO REINOS". PLAZA DEL PUEBLO DE LA BAÑA.
DESCRIPTION:
URL:https://lafueyacabreiresa.com/event/cine-de-verano-el-cascanueces-y-los-cuatro-reinos-plaza-del-pueblo-de-la-bana
LOCATION:La Baña\, La Baña\, España
END:VEVENT
END:VCALENDAR