BEGIN:VCALENDAR
VERSION:2.0
PRODID:-//La fueya cabreiresa - ECPv5.10.0//NONSGML v1.0//EN
CALSCALE:GREGORIAN
METHOD:PUBLISH
X-WR-CALNAME:La fueya cabreiresa
X-ORIGINAL-URL:https://lafueyacabreiresa.com
X-WR-CALDESC:Eventos para La fueya cabreiresa
BEGIN:VTIMEZONE
TZID:UTC
BEGIN:STANDARD
TZOFFSETFROM:+0000
TZOFFSETTO:+0000
TZNAME:UTC
DTSTART:20190101T000000
END:STANDARD
END:VTIMEZONE
BEGIN:VEVENT
DTSTART;TZID=UTC:20190821T180000
DTEND;TZID=UTC:20190821T190000
DTSTAMP:20260425T181459
CREATED:20190720T092904Z
LAST-MODIFIED:20190720T092904Z
UID:5947-1566410400-1566414000@lafueyacabreiresa.com
SUMMARY:CHARLA-TALLER "JUEGOS TRADICIONALES DE CABRERA". LA CABILA POMBRIEGO.
DESCRIPTION:
URL:https://lafueyacabreiresa.com/event/charla-taller-juegos-tradicionales-de-cabrera-la-cabila-pombriego
LOCATION:Pombriego\, León
END:VEVENT
END:VCALENDAR