BEGIN:VCALENDAR
VERSION:2.0
PRODID:-//La fueya cabreiresa - ECPv5.10.0//NONSGML v1.0//EN
CALSCALE:GREGORIAN
METHOD:PUBLISH
X-WR-CALNAME:La fueya cabreiresa
X-ORIGINAL-URL:https://lafueyacabreiresa.com
X-WR-CALDESC:Eventos para La fueya cabreiresa
BEGIN:VTIMEZONE
TZID:UTC
BEGIN:STANDARD
TZOFFSETFROM:+0000
TZOFFSETTO:+0000
TZNAME:UTC
DTSTART:20190101T000000
END:STANDARD
END:VTIMEZONE
BEGIN:VEVENT
DTSTART;TZID=UTC:20190820T180000
DTEND;TZID=UTC:20190820T190000
DTSTAMP:20260425T151845
CREATED:20190720T092630Z
LAST-MODIFIED:20190720T092630Z
UID:5943-1566324000-1566327600@lafueyacabreiresa.com
SUMMARY:CHARLA-TALLER "JUEGOS TRADICIONALES DE CABRERA". AULA DE LA NATURALEZA DE VALDAVIDO.
DESCRIPTION:
URL:https://lafueyacabreiresa.com/event/charla-taller-juegos-tradicionales-de-cabrera-aula-de-la-naturaleza-de-valdavido
LOCATION:Aula de la Ñaturaleza de Valdaviéu\, Valdavido\, Leó\, 24740\, España
END:VEVENT
END:VCALENDAR