BEGIN:VCALENDAR
VERSION:2.0
PRODID:-//La fueya cabreiresa - ECPv5.10.0//NONSGML v1.0//EN
CALSCALE:GREGORIAN
METHOD:PUBLISH
X-WR-CALNAME:La fueya cabreiresa
X-ORIGINAL-URL:https://lafueyacabreiresa.com
X-WR-CALDESC:Eventos para La fueya cabreiresa
BEGIN:VTIMEZONE
TZID:UTC
BEGIN:STANDARD
TZOFFSETFROM:+0000
TZOFFSETTO:+0000
TZNAME:UTC
DTSTART:20180101T000000
END:STANDARD
END:VTIMEZONE
BEGIN:VEVENT
DTSTART;TZID=UTC:20180803T180000
DTEND;TZID=UTC:20180803T180000
DTSTAMP:20260421T222222
CREATED:20180802T124858Z
LAST-MODIFIED:20180802T124858Z
UID:2743-1533319200-1533319200@lafueyacabreiresa.com
SUMMARY:Charla prevención de incendios en Sigüeya
DESCRIPTION:
URL:https://lafueyacabreiresa.com/event/charla-prevencion-de-incendios-en-sigueya
LOCATION:Casa del pueblo de Sigüeya\, Sigüeya
CATEGORIES:Conferencia
END:VEVENT
END:VCALENDAR