BEGIN:VCALENDAR
VERSION:2.0
PRODID:-//La fueya cabreiresa - ECPv5.10.0//NONSGML v1.0//EN
CALSCALE:GREGORIAN
METHOD:PUBLISH
X-WR-CALNAME:La fueya cabreiresa
X-ORIGINAL-URL:https://lafueyacabreiresa.com
X-WR-CALDESC:Eventos para La fueya cabreiresa
BEGIN:VTIMEZONE
TZID:UTC
BEGIN:STANDARD
TZOFFSETFROM:+0000
TZOFFSETTO:+0000
TZNAME:UTC
DTSTART:20180101T000000
END:STANDARD
END:VTIMEZONE
BEGIN:VEVENT
DTSTART;TZID=UTC:20180812T190000
DTEND;TZID=UTC:20180812T190000
DTSTAMP:20260421T171559
CREATED:20180809T114227Z
LAST-MODIFIED:20180809T114227Z
UID:2873-1534100400-1534100400@lafueyacabreiresa.com
SUMMARY:Charla "Iglesia y Castillo de Valdavido" por Gaspar Fernández y Vicente Fernández en Valdavido.
DESCRIPTION:
URL:https://lafueyacabreiresa.com/event/charla-iglesia-y-castillo-de-valdavido-por-gaspar-fernandez-y-vicente-fernandez-en-valdavido
LOCATION:Aula de la Ñaturaleza de Valdaviéu\, Valdavido\, Leó\, 24740\, España
CATEGORIES:Conferencia
END:VEVENT
END:VCALENDAR